BEGIN:VCALENDAR
VERSION:2.0
PRODID:-//QEDC - ECPv6.15.20//NONSGML v1.0//EN
CALSCALE:GREGORIAN
METHOD:PUBLISH
X-ORIGINAL-URL:https://services.queensny.org
X-WR-CALDESC:Events for QEDC
REFRESH-INTERVAL;VALUE=DURATION:PT1H
X-Robots-Tag:noindex
X-PUBLISHED-TTL:PT1H
BEGIN:VTIMEZONE
TZID:America/New_York
BEGIN:DAYLIGHT
TZOFFSETFROM:-0500
TZOFFSETTO:-0400
TZNAME:EDT
DTSTART:20240310T070000
END:DAYLIGHT
BEGIN:STANDARD
TZOFFSETFROM:-0400
TZOFFSETTO:-0500
TZNAME:EST
DTSTART:20241103T060000
END:STANDARD
BEGIN:DAYLIGHT
TZOFFSETFROM:-0500
TZOFFSETTO:-0400
TZNAME:EDT
DTSTART:20250309T070000
END:DAYLIGHT
BEGIN:STANDARD
TZOFFSETFROM:-0400
TZOFFSETTO:-0500
TZNAME:EST
DTSTART:20251102T060000
END:STANDARD
BEGIN:DAYLIGHT
TZOFFSETFROM:-0500
TZOFFSETTO:-0400
TZNAME:EDT
DTSTART:20260308T070000
END:DAYLIGHT
BEGIN:STANDARD
TZOFFSETFROM:-0400
TZOFFSETTO:-0500
TZNAME:EST
DTSTART:20261101T060000
END:STANDARD
END:VTIMEZONE
BEGIN:VEVENT
DTSTART;TZID=America/New_York:20251112T130000
DTEND;TZID=America/New_York:20251112T140000
DTSTAMP:20260425T084847
CREATED:20250925T181837Z
LAST-MODIFIED:20250925T181944Z
UID:20437-1762952400-1762956000@services.queensny.org
SUMMARY:Current State of the VC Market
DESCRIPTION:​Venture capital is shifting fast\, and founders need to know how to adapt. Join us for an in-depth look at the current state of the VC market\, where you will learn: \n\n​The $100B Question: Where is the funding actually going each quarter\, and which sectors are receiving the most capital and which sectors are cooling down? \n\n​Four Big Themes: The dominant funding trends shaping this year’s venture landscape. \n\n​The Why Behind the Trends: what macroeconomic trends are driving these funding themes\, and why are they here to stay? \n\n​Founder’s Perspective: What the current VC environment means for your fundraising process\, investor conversations\, and deal terms.
URL:https://services.queensny.org/event/current-state-of-the-vc-market/
CATEGORIES:Queens Tech + Innovation Challenge
END:VEVENT
BEGIN:VEVENT
DTSTART;TZID=America/New_York:20251112T180000
DTEND;TZID=America/New_York:20251112T200000
DTSTAMP:20260425T084847
CREATED:20251009T124423Z
LAST-MODIFIED:20251009T124929Z
UID:20463-1762970400-1762977600@services.queensny.org
SUMMARY:Industry-Specific Financing
DESCRIPTION:Different industries have different funding pathways. Learn how to identify and pursue financing opportunities that are tailored to your sector – whether you’re in retail\, manufacturing\, tech\, or services.
URL:https://services.queensny.org/event/industry-specific-financing/
LOCATION:Online\, NY\, United States
CATEGORIES:Women's Business Center
END:VEVENT
END:VCALENDAR