BEGIN:VCALENDAR
VERSION:2.0
PRODID:-//QEDC - ECPv6.15.20//NONSGML v1.0//EN
CALSCALE:GREGORIAN
METHOD:PUBLISH
X-WR-CALNAME:QEDC
X-ORIGINAL-URL:https://services.queensny.org
X-WR-CALDESC:Events for QEDC
REFRESH-INTERVAL;VALUE=DURATION:PT1H
X-Robots-Tag:noindex
X-PUBLISHED-TTL:PT1H
BEGIN:VTIMEZONE
TZID:America/New_York
BEGIN:DAYLIGHT
TZOFFSETFROM:-0500
TZOFFSETTO:-0400
TZNAME:EDT
DTSTART:20250309T070000
END:DAYLIGHT
BEGIN:STANDARD
TZOFFSETFROM:-0400
TZOFFSETTO:-0500
TZNAME:EST
DTSTART:20251102T060000
END:STANDARD
BEGIN:DAYLIGHT
TZOFFSETFROM:-0500
TZOFFSETTO:-0400
TZNAME:EDT
DTSTART:20260308T070000
END:DAYLIGHT
BEGIN:STANDARD
TZOFFSETFROM:-0400
TZOFFSETTO:-0500
TZNAME:EST
DTSTART:20261101T060000
END:STANDARD
BEGIN:DAYLIGHT
TZOFFSETFROM:-0500
TZOFFSETTO:-0400
TZNAME:EDT
DTSTART:20270314T070000
END:DAYLIGHT
BEGIN:STANDARD
TZOFFSETFROM:-0400
TZOFFSETTO:-0500
TZNAME:EST
DTSTART:20271107T060000
END:STANDARD
END:VTIMEZONE
BEGIN:VEVENT
DTSTART;TZID=America/New_York:20260512T180000
DTEND;TZID=America/New_York:20260512T210000
DTSTAMP:20260425T075608
CREATED:20260423T211308Z
LAST-MODIFIED:20260423T211308Z
UID:20839-1778608800-1778619600@services.queensny.org
SUMMARY:Queens Taste 2026
DESCRIPTION:Join us on May 12 for the biggest\, tastiest\, and longest-running culinary showcase in the most vibrant food destination in the world: Queens Taste 2026. \nWe’re once again bringing together more than 50 of the borough’s best restaurants\, foodmakers\, breweries\, and confectioners under one roof for an evening of unlimited sips and samples. But for the first time\, that roof is the stunning Sound River Studios in LIC – perched right on the East River with soaring ceilings and breathtaking skyline views. \nAll tickets are tax-deductible\, with proceeds going directly towards QEDC’s business programs and neighborhood initiatives that make this borough so tasty to begin with.
URL:https://services.queensny.org/event/queens-taste-2026/
END:VEVENT
BEGIN:VEVENT
DTSTART;TZID=America/New_York:20260512T190000
DTEND;TZID=America/New_York:20260512T200000
DTSTAMP:20260425T075608
CREATED:20251204T144757Z
LAST-MODIFIED:20260323T164948Z
UID:20624-1778612400-1778616000@services.queensny.org
SUMMARY:Ready\, Set\, Go!
DESCRIPTION:About the Webinar:\n\nReady\, Set\, Go! is a 60-minute free workshop that covers all the things you need to think about when going into business.  It provides a general overview of what it takes to start a business; legal considerations and what it takes to fund a new venture. \n\n\nAbout the Speaker:\n\nRoy Pellicano ran an IT services company for over 15 years working with small and mid-sized businesses across all industries\, from the single computer Mom & Pop to the 63 location company. In addition to supporting IT\, Roy advises business teams developing and implementing strategy across the business lifecycle from start-up to exit\, including how to implement business and technology transformation.
URL:https://services.queensny.org/event/ready-set-go-45/
CATEGORIES:Women's Business Center,Ready Set Go!
END:VEVENT
END:VCALENDAR