BEGIN:VCALENDAR
VERSION:2.0
PRODID:-//QEDC - ECPv6.15.20//NONSGML v1.0//EN
CALSCALE:GREGORIAN
METHOD:PUBLISH
X-WR-CALNAME:QEDC
X-ORIGINAL-URL:https://services.queensny.org
X-WR-CALDESC:Events for QEDC
REFRESH-INTERVAL;VALUE=DURATION:PT1H
X-Robots-Tag:noindex
X-PUBLISHED-TTL:PT1H
BEGIN:VTIMEZONE
TZID:America/New_York
BEGIN:DAYLIGHT
TZOFFSETFROM:-0500
TZOFFSETTO:-0400
TZNAME:EDT
DTSTART:20250309T070000
END:DAYLIGHT
BEGIN:STANDARD
TZOFFSETFROM:-0400
TZOFFSETTO:-0500
TZNAME:EST
DTSTART:20251102T060000
END:STANDARD
BEGIN:DAYLIGHT
TZOFFSETFROM:-0500
TZOFFSETTO:-0400
TZNAME:EDT
DTSTART:20260308T070000
END:DAYLIGHT
BEGIN:STANDARD
TZOFFSETFROM:-0400
TZOFFSETTO:-0500
TZNAME:EST
DTSTART:20261101T060000
END:STANDARD
BEGIN:DAYLIGHT
TZOFFSETFROM:-0500
TZOFFSETTO:-0400
TZNAME:EDT
DTSTART:20270314T070000
END:DAYLIGHT
BEGIN:STANDARD
TZOFFSETFROM:-0400
TZOFFSETTO:-0500
TZNAME:EST
DTSTART:20271107T060000
END:STANDARD
END:VTIMEZONE
BEGIN:VEVENT
DTSTART;TZID=America/New_York:20260106T130000
DTEND;TZID=America/New_York:20260106T140000
DTSTAMP:20260422T142615
CREATED:20251120T144748Z
LAST-MODIFIED:20251120T144748Z
UID:20602-1767704400-1767708000@services.queensny.org
SUMMARY:2-Part Workshop: From First Taste to Loyal Fans: Grow Repeat Customers Organically – Session 1
DESCRIPTION:​​​This is the 1st session of a 2-part workshop. It is designed for early-stage food and beverage founders who want to organically grow repeat buyers\, strengthen brand affinity\, and create a product that customers remember\, crave\, and reorder — all without relying on paid ads.
URL:https://services.queensny.org/event/2-part-workshop-from-first-taste-to-loyal-fans-grow-repeat-customers-organically-session-1/
LOCATION:Online\, NY\, United States
CATEGORIES:Queens Tech + Innovation Challenge
END:VEVENT
BEGIN:VEVENT
DTSTART;TZID=America/New_York:20260113T130000
DTEND;TZID=America/New_York:20260113T140000
DTSTAMP:20260422T142615
CREATED:20251120T144852Z
LAST-MODIFIED:20251120T144852Z
UID:20603-1768309200-1768312800@services.queensny.org
SUMMARY:2-Part Workshop: From First Taste to Loyal Fans: Grow Repeat Customers Organically – Session 2
DESCRIPTION:​​​This is the 1st session of a 2-part workshop. It is designed for early-stage food and beverage founders who want to organically grow repeat buyers\, strengthen brand affinity\, and create a product that customers remember\, crave\, and reorder — all without relying on paid ads.
URL:https://services.queensny.org/event/2-part-workshop-from-first-taste-to-loyal-fans-grow-repeat-customers-organically-session-2/
LOCATION:Online\, NY\, United States
CATEGORIES:Queens Tech + Innovation Challenge
END:VEVENT
BEGIN:VEVENT
DTSTART;TZID=America/New_York:20260120T180000
DTEND;TZID=America/New_York:20260120T200000
DTSTAMP:20260422T142615
CREATED:20251215T143912Z
LAST-MODIFIED:20251215T143912Z
UID:20674-1768932000-1768939200@services.queensny.org
SUMMARY:Build in Queens\, Startup Networking Night
DESCRIPTION:Join us for a fun evening to connect with fellow founders\, small business entrepreneurs and start your year strong!\n\n\n\nKick off 2026 with inspiration\, connection\, and fresh momentum! Join us for a fun evening with local entrepreneurs and business owners who are ready to start the year strong. \nYou’ll also get an inside look at the 2026 Queens Tech + Innovation Challenge\, a program designed to help early-stage founders grow their businesses through grants of up to $20\,000\, expert support\, and access to our vibrant founders network. \nCome meet the people who are building what’s next in Queens. \nAppetizers and drinks will be provided!
URL:https://services.queensny.org/event/build-in-queens-startup-networking-night/
LOCATION:Leo’s Restaurant & Sports Bar\, 84-19 Roosevelt Ave\, Jackson Heights\, NY\, 11372\, United States
CATEGORIES:Queens Tech + Innovation Challenge
END:VEVENT
END:VCALENDAR