BEGIN:VCALENDAR
VERSION:2.0
PRODID:-//QEDC - ECPv6.15.20//NONSGML v1.0//EN
CALSCALE:GREGORIAN
METHOD:PUBLISH
X-ORIGINAL-URL:https://services.queensny.org
X-WR-CALDESC:Events for QEDC
REFRESH-INTERVAL;VALUE=DURATION:PT1H
X-Robots-Tag:noindex
X-PUBLISHED-TTL:PT1H
BEGIN:VTIMEZONE
TZID:America/New_York
BEGIN:DAYLIGHT
TZOFFSETFROM:-0500
TZOFFSETTO:-0400
TZNAME:EDT
DTSTART:20250309T070000
END:DAYLIGHT
BEGIN:STANDARD
TZOFFSETFROM:-0400
TZOFFSETTO:-0500
TZNAME:EST
DTSTART:20251102T060000
END:STANDARD
BEGIN:DAYLIGHT
TZOFFSETFROM:-0500
TZOFFSETTO:-0400
TZNAME:EDT
DTSTART:20260308T070000
END:DAYLIGHT
BEGIN:STANDARD
TZOFFSETFROM:-0400
TZOFFSETTO:-0500
TZNAME:EST
DTSTART:20261101T060000
END:STANDARD
BEGIN:DAYLIGHT
TZOFFSETFROM:-0500
TZOFFSETTO:-0400
TZNAME:EDT
DTSTART:20270314T070000
END:DAYLIGHT
BEGIN:STANDARD
TZOFFSETFROM:-0400
TZOFFSETTO:-0500
TZNAME:EST
DTSTART:20271107T060000
END:STANDARD
END:VTIMEZONE
BEGIN:VEVENT
DTSTART;TZID=America/New_York:20260106T130000
DTEND;TZID=America/New_York:20260106T140000
DTSTAMP:20260424T083134
CREATED:20251120T144748Z
LAST-MODIFIED:20251120T144748Z
UID:20602-1767704400-1767708000@services.queensny.org
SUMMARY:2-Part Workshop: From First Taste to Loyal Fans: Grow Repeat Customers Organically – Session 1
DESCRIPTION:​​​This is the 1st session of a 2-part workshop. It is designed for early-stage food and beverage founders who want to organically grow repeat buyers\, strengthen brand affinity\, and create a product that customers remember\, crave\, and reorder — all without relying on paid ads.
URL:https://services.queensny.org/event/2-part-workshop-from-first-taste-to-loyal-fans-grow-repeat-customers-organically-session-1/
LOCATION:Online\, NY\, United States
CATEGORIES:Queens Tech + Innovation Challenge
END:VEVENT
END:VCALENDAR