BEGIN:VCALENDAR
VERSION:2.0
PRODID:-//QEDC - ECPv6.15.20//NONSGML v1.0//EN
CALSCALE:GREGORIAN
METHOD:PUBLISH
X-WR-CALNAME:QEDC
X-ORIGINAL-URL:https://services.queensny.org
X-WR-CALDESC:Events for QEDC
REFRESH-INTERVAL;VALUE=DURATION:PT1H
X-Robots-Tag:noindex
X-PUBLISHED-TTL:PT1H
BEGIN:VTIMEZONE
TZID:America/New_York
BEGIN:DAYLIGHT
TZOFFSETFROM:-0500
TZOFFSETTO:-0400
TZNAME:EDT
DTSTART:20250309T070000
END:DAYLIGHT
BEGIN:STANDARD
TZOFFSETFROM:-0400
TZOFFSETTO:-0500
TZNAME:EST
DTSTART:20251102T060000
END:STANDARD
BEGIN:DAYLIGHT
TZOFFSETFROM:-0500
TZOFFSETTO:-0400
TZNAME:EDT
DTSTART:20260308T070000
END:DAYLIGHT
BEGIN:STANDARD
TZOFFSETFROM:-0400
TZOFFSETTO:-0500
TZNAME:EST
DTSTART:20261101T060000
END:STANDARD
BEGIN:DAYLIGHT
TZOFFSETFROM:-0500
TZOFFSETTO:-0400
TZNAME:EDT
DTSTART:20270314T070000
END:DAYLIGHT
BEGIN:STANDARD
TZOFFSETFROM:-0400
TZOFFSETTO:-0500
TZNAME:EST
DTSTART:20271107T060000
END:STANDARD
END:VTIMEZONE
BEGIN:VEVENT
DTSTART;TZID=America/New_York:20260422T140000
DTEND;TZID=America/New_York:20260422T150000
DTSTAMP:20260422T071323
CREATED:20260413T155102Z
LAST-MODIFIED:20260413T155302Z
UID:20815-1776866400-1776870000@services.queensny.org
SUMMARY:Fraud\, Risk\, Business Protection
DESCRIPTION:Fraud and scams are becoming more sophisticated — and small businesses are increasingly targeted. In this session\, we’ll break down the most common fraud tactics affecting business owners today and share practical steps you can take to protect your accounts\, payments\, and customer data. Walk away with clear safeguards you can implement immediately to reduce risk and strengthen your financial security.
URL:https://services.queensny.org/event/fraud-risk-business-protection/
LOCATION:Online\, NY\, United States
END:VEVENT
BEGIN:VEVENT
DTSTART;TZID=America/New_York:20260428T180000
DTEND;TZID=America/New_York:20260428T200000
DTSTAMP:20260422T071323
CREATED:20260413T155226Z
LAST-MODIFIED:20260413T155226Z
UID:20816-1777399200-1777406400@services.queensny.org
SUMMARY:QTIC Winner Announcement & Networking Night
DESCRIPTION:Come meet your fellow Queens innovators – and learn the winners of this year’s Queens Tech + Innovation Challenge! \n\n\n\n\nJoin innovators and entrepreneurs from across Queens for a networking night and the announcement of this year’s winners of the Queens Tech + Innovation Challenge.
URL:https://services.queensny.org/event/qtic-winner-announcement-networking-night/
LOCATION:New York Hall of Science\, 47-01 111th St\, Corona\, NY\, 11368\, United States
CATEGORIES:Queens Tech + Innovation Challenge
END:VEVENT
END:VCALENDAR